BEGIN:VCALENDAR
VERSION:2.0
PRODID:-//Mi-Gandia24 - ECPv6.15.20//NONSGML v1.0//EN
CALSCALE:GREGORIAN
METHOD:PUBLISH
X-WR-CALNAME:Mi-Gandia24
X-ORIGINAL-URL:https://mi-gandia24.es
X-WR-CALDESC:Eventos para Mi-Gandia24
REFRESH-INTERVAL;VALUE=DURATION:PT1H
X-Robots-Tag:noindex
X-PUBLISHED-TTL:PT1H
BEGIN:VTIMEZONE
TZID:Europe/Madrid
BEGIN:DAYLIGHT
TZOFFSETFROM:+0100
TZOFFSETTO:+0200
TZNAME:CEST
DTSTART:20250330T010000
END:DAYLIGHT
BEGIN:STANDARD
TZOFFSETFROM:+0200
TZOFFSETTO:+0100
TZNAME:CET
DTSTART:20251026T010000
END:STANDARD
BEGIN:DAYLIGHT
TZOFFSETFROM:+0100
TZOFFSETTO:+0200
TZNAME:CEST
DTSTART:20260329T010000
END:DAYLIGHT
BEGIN:STANDARD
TZOFFSETFROM:+0200
TZOFFSETTO:+0100
TZNAME:CET
DTSTART:20261025T010000
END:STANDARD
BEGIN:DAYLIGHT
TZOFFSETFROM:+0100
TZOFFSETTO:+0200
TZNAME:CEST
DTSTART:20270328T010000
END:DAYLIGHT
BEGIN:STANDARD
TZOFFSETFROM:+0200
TZOFFSETTO:+0100
TZNAME:CET
DTSTART:20271031T010000
END:STANDARD
END:VTIMEZONE
BEGIN:VEVENT
DTSTART;TZID=Europe/Madrid:20260425T230000
DTEND;TZID=Europe/Madrid:20260426T070000
DTSTAMP:20260426T030008
CREATED:20260425T002914Z
LAST-MODIFIED:20260425T002914Z
UID:11916-1777158000-1777186800@mi-gandia24.es
SUMMARY:Feria de Abril - JC Diamante - Falkata
DESCRIPTION:Feria de Abril – JC Diamante – Falkata\n¡El mejor ambiente andaluz sin salir de la ciudad! Este año\, la mítica discoteca se transforma para acoger una espectacular celebración con todo el espíritu de la festividad. El gran protagonista de la velada será el reconocido artista\, quien promete hacer vibrar a todos los asistentes con su inconfundible estilo y energía en el escenario. No dejes pasar la oportunidad de disfrutar de una fiesta única llena de ritmo\, rebujito y pura diversión en la pista de baile. ¡Asegura tu entrada y únete a la celebración más esperada de la temporada!\nEn esta página encontrará detalles sobre el evento: https://lagranmanzana.com/evento/55920 \n \nDatos del Evento: \n\nCategoría: Música / Djs\nEvento: La Feria de Abril – JC Diamante\nFecha: 25 de abril – 26 de abril\nLugar: Falkata – Playa de Gandia\nEntradas: https://lagranmanzana.com/evento/55920
URL:https://mi-gandia24.es/evento/feria-de-abril-jc-diamante-falkata/
LOCATION:FALKATA-Playa de Gandia\, Camí Vell de València\, 15\, Playa de Gandia\, Valencia\, 46730\, Spain
CATEGORIES:DJ`s,Musica
ATTACH;FMTTYPE=image/webp:https://mi-gandia24.es/wp-content/uploads/2026/04/JC-Diamante-Falkata.webp
END:VEVENT
BEGIN:VEVENT
DTSTART;VALUE=DATE:20260426
DTEND;VALUE=DATE:20260427
DTSTAMP:20260426T030008
CREATED:20260221T003718Z
LAST-MODIFIED:20260221T004736Z
UID:9090-1777161600-1777247999@mi-gandia24.es
SUMMARY:XVII Cursa de la Dona Vicky Foods en Gandia
DESCRIPTION:XVII Cursa de la Dona Vicky Foods en Gandia\nLas calles de Gandia y Benirredrà se teñirán de azul pastel en una jornada que trasciende lo deportivo para convertirse en un símbolo de unión y salud femenina. Esta emblemática carrera invita a mujeres de todas las edades a compartir kilómetros de alegría\, ya sea corriendo o caminando\, en un ambiente festivo inigualable. Más allá de la meta\, el evento late con un corazón solidario\, destinando fondos a la investigación de enfermedades crónicas que afectan mayoritariamente a las mujeres. Es la oportunidad perfecta para disfrutar del deporte en familia\, fortalecer lazos comunitarios y reivindicar el papel de la mujer en la sociedad. ¡Prepárate para formar parte de esta marea de igualdad y energía positiva!\nhttps://cursadeladonagandia.com/inscripcio/ \n \nEvento:\nFecha: Domingo\, 26 de abril de 2026.\nHora: 10:30 horas.\nLugar (Salida y Meta): Avenida de Les Esclaves (Gandia).\nRecorrido: 5\,9 kilómetros por Gandia y Benirredrà.\nOrganizador: Club d’Atletisme Safor Teika y Ayuntamiento de Gandia.\nPrecio: * Hasta el 14 de abril: 8 euros (7€ + 1€ solidario).\nDel 15 al 21 de abril: 12 euros (10€ + 2€ solidarios).\nInscripciones: Plataforma Crono4Sports y establecimientos colaboradores.
URL:https://mi-gandia24.es/evento/xvii-cursa-de-la-dona-vicky-foods-en-gandia/
LOCATION:Avenida de Les Esclaves (Gandia)\, Avenida de Les Esclaves\, Gandia\, Valencia\, Spain
CATEGORIES:Deporte,Otros
ATTACH;FMTTYPE=image/jpeg:https://mi-gandia24.es/wp-content/uploads/2026/02/Crsa-De-La-Dona-Gandia.jpg
END:VEVENT
BEGIN:VEVENT
DTSTART;TZID=Europe/Madrid:20260426T123000
DTEND;TZID=Europe/Madrid:20260426T153000
DTSTAMP:20260426T030008
CREATED:20260423T003711Z
LAST-MODIFIED:20260423T003711Z
UID:11842-1777206600-1777217400@mi-gandia24.es
SUMMARY:Soul Dealers en Pub Dublin Gandia
DESCRIPTION:Soul Dealers en Pub Dublin Gandia\nEl domingo en la Playa de Gandia se viste de gala y lentejuelas con la llegada de los Soul Dealers para una Vermut Session inolvidable. Esta veterana formación valenciana\, con más de una década de trayectoria\, es experta en revivir la magia de leyendas como Aretha Franklin\, James Brown y los Bee Gees. El escenario del Pub Dublin se transformará en una auténtica fiesta de la black music\, donde el funk y la música disco de los 70 serán los protagonistas absolutos. Es la cita perfecta para disfrutar del mediodía frente al mar con un directo vibrante\, elegante y lleno de energía contagiosa. Al ser de acceso gratuito\, no hay mejor plan para despedir la semana que bailando al ritmo de los mejores clásicos del soul. \n\n\nDetalles del Evento\n\nEvento: VERMUT SESSION » SOUL DEALERS «\nFecha: domingo\, 26 abril\nHora: 12:30\nPrecio: Gratuito\nCategoría del Evento: Concierto (Banda de versiones de música Disco y Soul)\nRecinto: Pub Dublin Gandia\nDirección: Rioja 38\, Playa de Gandia\, Valencia 46730 España\nOrganizador: Pub Dublin Gandia
URL:https://mi-gandia24.es/evento/soul-dealers-en-pub-dublin-gandia/
LOCATION:PUB DUBLIN GANDIA\, Rioja\, 38\, Playa de Gandia\, PLAYA DE GANDIA\, VALENCIA\, Spain
CATEGORIES:Concierto,Musical
ATTACH;FMTTYPE=image/webp:https://mi-gandia24.es/wp-content/uploads/2026/04/Soul-Dealers.webp
END:VEVENT
BEGIN:VEVENT
DTSTART;VALUE=DATE:20260430
DTEND;VALUE=DATE:20260504
DTSTAMP:20260426T030008
CREATED:20260423T234703Z
LAST-MODIFIED:20260424T010259Z
UID:11871-1777507200-1777852799@mi-gandia24.es
SUMMARY:Feria de Abril Sevillana
DESCRIPTION:Feria de Abril en Espai Baladre\nGandía se transforma para acoger la magia y el duende de la tradicional Feria de Abril sevillana. El recinto se convertirá en un auténtico rincón andaluz donde la música en directo\, las sevillanas y el clásico rebujito serán los grandes protagonistas. Es la oportunidad ideal para disfrutar con familiares y amigos de un ambiente festivo inigualable entre casetas llenas de vida. Prepara tus mejores prendas de lunares y anímate a vivir noches interminables repletas de puro arte flamenco sin salir de la ciudad. ¡Consulta el cartel de programación\, déjate llevar por la alegría del sur y ven a bailar hasta que el cuerpo aguante! \n \n  \nDatos del evento: \n\nFecha: 30 de abril – 3 de mayo\nLugar: Espai Baladre\, Gandía\nPúblico: Para amigos\, familia y todos los públicos
URL:https://mi-gandia24.es/evento/feria-de-abril-sevillana/
LOCATION:Espai Baladre\, Playa de Gandia\, Valencia\, 46730
CATEGORIES:Concierto,Danza,Exposición,Musica
ATTACH;FMTTYPE=image/jpeg:https://mi-gandia24.es/wp-content/uploads/2026/04/Feria-de-Abril-Gandia-2026.jpg
END:VEVENT
BEGIN:VEVENT
DTSTART;TZID=Europe/Madrid:20260501T233000
DTEND;TZID=Europe/Madrid:20260502T010000
DTSTAMP:20260426T030008
CREATED:20260423T004931Z
LAST-MODIFIED:20260423T004931Z
UID:11845-1777678200-1777683600@mi-gandia24.es
SUMMARY:The Chuck Norris Experiment en Pub Dublin
DESCRIPTION:The Chuck Norris Experiment en Pub Dublin\nLa legendaria banda sueca Chuck Norris Experiment aterriza en el Pub Dublin para ofrecer una descarga explosiva de rock de alta energía. Directamente desde Gotemburgo\, el grupo llega como una apisonadora de hard rock y punk\, prometiendo una noche cargada de pura adrenalina. Esta actuación forma parte de su gira internacional\, brindando una oportunidad única de vivir su sonido crudo y directo en pleno corazón de la playa. Los amantes del garage rock más potente tienen una cita ineludible con este torbellino musical que define perfectamente el espíritu de las «Noches Golfas«. Por tan solo 5€\, esta es la propuesta más electrizante para inaugurar con fuerza el mes de mayo en Gandia. \n\n\nDetalles del Evento\n\nEvento: NOCHES GOLFAS » CHUCK NORRIS EXPERIMENT » FROM SWEDEN\nFecha: viernes\, 1 mayo\nHora: 23:30\nPrecio: 5€\nCategoría del Evento: Concierto\nRecinto: Pub Dublin Gandia\nDirección: Rioja 38\, Playa de Gandia\, Valencia 46730 España\nOrganizador: Pub Dublin Gandia
URL:https://mi-gandia24.es/evento/the-chuck-norris-experiment-en-pub-dublin/
LOCATION:PUB DUBLIN GANDIA\, Rioja\, 38\, Playa de Gandia\, PLAYA DE GANDIA\, VALENCIA\, Spain
CATEGORIES:Concierto,Musica
ATTACH;FMTTYPE=image/webp:https://mi-gandia24.es/wp-content/uploads/2026/04/The-Chuck-Norris-Experiment.webp
END:VEVENT
BEGIN:VEVENT
DTSTART;TZID=Europe/Madrid:20260502T173000
DTEND;TZID=Europe/Madrid:20260502T210000
DTSTAMP:20260426T030008
CREATED:20260424T121202Z
LAST-MODIFIED:20260424T121202Z
UID:11894-1777743000-1777755600@mi-gandia24.es
SUMMARY:Tributo a Mecano: Fábula en Fomento
DESCRIPTION:Tributo a Mecano: Fábula en Fomento\nRevive la magia inconfundible del pop español con un emotivo concierto donde el grupo Fábula rendirá un merecido homenaje a la legendaria banda Mecano. Prepárate para viajar en el tiempo mientras cantas a pleno pulmón aquellos himnos generacionales que te transportarán a momentos inolvidables de tu vida. Será una tarde vibrante que combinará música en directo\, una atmósfera inmejorable y esa dosis perfecta de nostalgia compartida. La experiencia promete ser única e irrepetible para los verdaderos amantes de la buena música en nuestra ciudad. Asegura tu lugar cuanto antes\, ya que el aforo es limitado y quedan muy pocas localidades disponibles para este gran encuentro. \n \nDatos del evento: \n\nFecha: 2 de mayo\nHora: 17:30h\nLugares: Don Tomás · Fomento AIC\nIntérprete: Grupo Fábula\nEntradas: Ya a la venta. Aforo muy limitado\, últimas entradas disponibles.
URL:https://mi-gandia24.es/evento/tributo-a-mecano-fabula-en-fomento/
LOCATION:Fomento AIC\, C. de Sant Francesc de Borja\, 56\, Gandia\, Valencia\, 46701\, Spain
CATEGORIES:Concierto,Musica
ATTACH;FMTTYPE=image/webp:https://mi-gandia24.es/wp-content/uploads/2026/04/FABULA.webp
END:VEVENT
BEGIN:VEVENT
DTSTART;TZID=Europe/Madrid:20260509T233000
DTEND;TZID=Europe/Madrid:20260510T070000
DTSTAMP:20260426T030008
CREATED:20260425T013519Z
LAST-MODIFIED:20260425T023428Z
UID:11921-1778369400-1778396400@mi-gandia24.es
SUMMARY:Concierto Dalex Bacarrá 
DESCRIPTION:Concierto Dalex Bacarrá\nPrepárate para una noche inolvidable al ritmo de la mejor música urbana con la esperada presentación en vivo de Dalex. El reconocido artista hará vibrar la pista con su inconfundible estilo\, interpretando grandes éxitos del reggaetón y R&B que han cautivado al público\, como su aclamado tema «Sola». Será una velada llena de energía\, baile y excelentes vibras en una de las salas más emblemáticas de la ciudad. No dejes que te lo cuenten y asegura tu sitio para vivir de cerca esta inmersiva experiencia musical. ¡El ambiente será espectacular y la fiesta urbana está completamente garantizada! \n \nDatos del Evento: \n\nFecha: 9 de mayo\nHora: 23.30\nLugar: Bacarrá – Playa de Gandia\nEntradas: La venta oficial de entradas y reservados VIP se gestiona a través de la web: https://lagranmanzana.com/evento/55861
URL:https://mi-gandia24.es/evento/concierto-dalex-bacarra/
LOCATION:Bacarrá – Playa de Gandia\, C. de Legazpi\, 7\, Playa de Gandia\, Valencia\, 46730\, Spain
CATEGORIES:Concierto,Musica
ATTACH;FMTTYPE=image/webp:https://mi-gandia24.es/wp-content/uploads/2026/04/Dalex-Bacarra-.webp
END:VEVENT
BEGIN:VEVENT
DTSTART;TZID=Europe/Madrid:20260708T080000
DTEND;TZID=Europe/Madrid:20260711T170000
DTSTAMP:20260426T030008
CREATED:20251119T214249Z
LAST-MODIFIED:20251119T214249Z
UID:8102-1783497600-1783789200@mi-gandia24.es
SUMMARY:Pirata Beach Fest 2026
DESCRIPTION:Gandía se convertirá nuevamente en el epicentro de la música en vivo con la celebración de la octava edición del Pirata Beach Fest.\nPirata Beach Fest celebrará su octava edición durante los días 8\, 9\, 10 y 11 de julio\, en el Polígono Benieto de Gandía.\nLas entradas estarán disponibles el domingo 11 de noviembre 2025\, a las 12 del mediodía\, en la web del festival. https://piratafestival.com\n¡Será una fiesta irrepetible! Y como dicen La Fúmiga: \n“¡Nos vemos en el Pirata\, con más emociones y más energía que nunca para despedirnos como se debe con un concierto único!”.
URL:https://mi-gandia24.es/evento/pirata-beach-fest-2026/
LOCATION:Gandia – Poligono Benieto
CATEGORIES:Concierto,Musica
ATTACH;FMTTYPE=image/jpeg:https://mi-gandia24.es/wp-content/uploads/2025/11/CARTEL-LA-FUMIGA-PIRATA-BEACH-FEST-2026.jpg
END:VEVENT
END:VCALENDAR