BEGIN:VCALENDAR
VERSION:2.0
PRODID:-//Mi-Gandia24 - ECPv6.15.20//NONSGML v1.0//EN
CALSCALE:GREGORIAN
METHOD:PUBLISH
X-WR-CALNAME:Mi-Gandia24
X-ORIGINAL-URL:https://mi-gandia24.es
X-WR-CALDESC:Eventos para Mi-Gandia24
REFRESH-INTERVAL;VALUE=DURATION:PT1H
X-Robots-Tag:noindex
X-PUBLISHED-TTL:PT1H
BEGIN:VTIMEZONE
TZID:Europe/Madrid
BEGIN:DAYLIGHT
TZOFFSETFROM:+0100
TZOFFSETTO:+0200
TZNAME:CEST
DTSTART:20250330T010000
END:DAYLIGHT
BEGIN:STANDARD
TZOFFSETFROM:+0200
TZOFFSETTO:+0100
TZNAME:CET
DTSTART:20251026T010000
END:STANDARD
BEGIN:DAYLIGHT
TZOFFSETFROM:+0100
TZOFFSETTO:+0200
TZNAME:CEST
DTSTART:20260329T010000
END:DAYLIGHT
BEGIN:STANDARD
TZOFFSETFROM:+0200
TZOFFSETTO:+0100
TZNAME:CET
DTSTART:20261025T010000
END:STANDARD
BEGIN:DAYLIGHT
TZOFFSETFROM:+0100
TZOFFSETTO:+0200
TZNAME:CEST
DTSTART:20270328T010000
END:DAYLIGHT
BEGIN:STANDARD
TZOFFSETFROM:+0200
TZOFFSETTO:+0100
TZNAME:CET
DTSTART:20271031T010000
END:STANDARD
END:VTIMEZONE
BEGIN:VEVENT
DTSTART;TZID=Europe/Madrid:20260424T233000
DTEND;TZID=Europe/Madrid:20260425T013000
DTSTAMP:20260425T184731
CREATED:20260422T233149Z
LAST-MODIFIED:20260423T001250Z
UID:11834-1777073400-1777080600@mi-gandia24.es
SUMMARY:Furiosa Pat en Pub Dublin Gandia
DESCRIPTION:Furiosa Pat en Pub Dublin Gandia\nLa Playa de Gandia se prepara para recibir una dosis de energía pura con la actuación de Furiosa Pat en el emblemático Pub Dublin. Este concierto\, parte del ciclo Noches Golfas\, transformará la noche en una experiencia musical vibrante cargada de ritmo y autenticidad. Es la cita perfecta para quienes buscan terminar la semana con el mejor sonido en directo en un ambiente cercano y acogedor. La propuesta invita a disfrutar de la cultura local en uno de los locales con más solera de la zona costera. Al ser de acceso libre\, no hay excusa para perderse esta descarga de talento frente al Mediterráneo. \n\n\nDetalles del Evento\n\nEvento: NOCHES GOLFAS » FURIOSA PAT «\nFecha: viernes\, 24 abril / 23:30\nPrecio: Gratuito\nCategoría del Evento: Concierto\nLugar: Pub Dublin Gandia\nDirección: Rioja 38\, Playa de Gandia\, Valencia 46730 España\nOrganizador: Pub Dublin Gandia
URL:https://mi-gandia24.es/evento/furiosa-pat-en-pub-dublin-gandia/
LOCATION:PUB DUBLIN GANDIA\, Rioja\, 38\, Playa de Gandia\, PLAYA DE GANDIA\, VALENCIA\, Spain
CATEGORIES:Concierto,Musica
ATTACH;FMTTYPE=image/webp:https://mi-gandia24.es/wp-content/uploads/2026/04/Furiosa-Pat.webp
END:VEVENT
BEGIN:VEVENT
DTSTART;TZID=Europe/Madrid:20260425T160000
DTEND;TZID=Europe/Madrid:20260425T233000
DTSTAMP:20260425T184731
CREATED:20260424T131047Z
LAST-MODIFIED:20260424T131115Z
UID:11898-1777132800-1777159800@mi-gandia24.es
SUMMARY:II Festival Carnaval Intercultural en Gandía
DESCRIPTION:II Festival Carnaval Intercultural en Gandía\nLas calles de Gandía vibrarán al ritmo de la música y el color en esta segunda edición de un encuentro que celebra la diversidad cultural y la integración. Más de veinte agrupaciones procedentes de países como Bolivia\, Ecuador\, Colombia y Honduras llenarán la ciudad con sus danzas tradicionales y vistosos trajes típicos. Este alegre recorrido es una oportunidad excepcional para disfrutar del folclore y descubrir la gran riqueza que aportan los colectivos sudamericanos a la convivencia local. Tras avanzar por el paseo de las Germanías y la avenida República Argentina\, la fiesta culminará con diversas actuaciones y un gran ambiente festivo en la plaza Elíptica. Todos los ciudadanos están invitados a unirse a esta celebración gratuita que consolida el respeto y la hermandad entre diferentes naciones. \n \n  \nDatos del evento: \n\nFecha: Sábado 25 de abril.\nHora: 17:00 h (concentración previa a las 16:00 h).\nLugar: Inicio en la Plaza del Tirant\, recorrido por paseo de las Germanías y av. República Argentina\, hasta la Plaza Elíptica (Gandía).\nOrganizador: Asociación Juventud Boliviana en colaboración con el Ayuntamiento de Gandía.\nPrecio: Entrada libre y gratuita (evento en la vía pública).
URL:https://mi-gandia24.es/evento/ii-festival-carnaval-intercultural-en-gandia/
LOCATION:Plaza del Tirant\, Gandia\, Valencia\, Spain
CATEGORIES:Concierto,Danza,Monólogo,Musica,Otros
ATTACH;FMTTYPE=image/webp:https://mi-gandia24.es/wp-content/uploads/2026/04/II-Festival-Carnaval-Intercultural.webp
END:VEVENT
BEGIN:VEVENT
DTSTART;TZID=Europe/Madrid:20260425T200000
DTEND;TZID=Europe/Madrid:20260425T233000
DTSTAMP:20260425T184731
CREATED:20260422T235209Z
LAST-MODIFIED:20260423T002404Z
UID:11837-1777147200-1777159800@mi-gandia24.es
SUMMARY:Elderstag en Pub Dublin Gandia
DESCRIPTION:Elderstag en Pub Dublin Gandia Tardeo Session\nLa potencia del rock progresivo y el stoner metal llega a la Playa de Gandia con la visita exclusiva de la banda portuguesa Elderstag. Directamente desde Lisboa y en plena gira europea 2026\, el grupo presentará su personal «distopía sonora» que está cautivando a la escena underground internacional. El Pub Dublin se transformará en el epicentro del metal conceptual\, ofreciendo una experiencia intensa donde los sonidos densos y técnicos serán los protagonistas. Esta sesión de tardeo promete ser una de las citas más eléctricas y potentes del calendario musical local de este año. La entrada gratuita garantiza que nadie se quede fuera de esta descarga de talento luso frente al Mediterráneo. \n\n\nDetalles del Evento\n\nEvento: TARDEO SESSION » ELDERSTAG «\nFecha: sábado\, 25 abril\nHora: 20:00\nPrecio: Gratuito\nCategoría del Evento: Concierto\nRecinto: Pub Dublin Gandia\nDirección: Rioja 38\, Playa de Gandia\, Valencia 46730 España\nOrganizador: Pub Dublin Gandia
URL:https://mi-gandia24.es/evento/elderstag-en-pub-dublin-gandia/
LOCATION:PUB DUBLIN GANDIA\, Rioja\, 38\, Playa de Gandia\, PLAYA DE GANDIA\, VALENCIA\, Spain
CATEGORIES:Concierto,Musica
ATTACH;FMTTYPE=image/webp:https://mi-gandia24.es/wp-content/uploads/2026/04/ELDERSTAG.webp
END:VEVENT
BEGIN:VEVENT
DTSTART;TZID=Europe/Madrid:20260425T230000
DTEND;TZID=Europe/Madrid:20260426T070000
DTSTAMP:20260425T184731
CREATED:20260425T002914Z
LAST-MODIFIED:20260425T002914Z
UID:11916-1777158000-1777186800@mi-gandia24.es
SUMMARY:Feria de Abril - JC Diamante - Falkata
DESCRIPTION:Feria de Abril – JC Diamante – Falkata\n¡El mejor ambiente andaluz sin salir de la ciudad! Este año\, la mítica discoteca se transforma para acoger una espectacular celebración con todo el espíritu de la festividad. El gran protagonista de la velada será el reconocido artista\, quien promete hacer vibrar a todos los asistentes con su inconfundible estilo y energía en el escenario. No dejes pasar la oportunidad de disfrutar de una fiesta única llena de ritmo\, rebujito y pura diversión en la pista de baile. ¡Asegura tu entrada y únete a la celebración más esperada de la temporada!\nEn esta página encontrará detalles sobre el evento: https://lagranmanzana.com/evento/55920 \n \nDatos del Evento: \n\nCategoría: Música / Djs\nEvento: La Feria de Abril – JC Diamante\nFecha: 25 de abril – 26 de abril\nLugar: Falkata – Playa de Gandia\nEntradas: https://lagranmanzana.com/evento/55920
URL:https://mi-gandia24.es/evento/feria-de-abril-jc-diamante-falkata/
LOCATION:FALKATA-Playa de Gandia\, Camí Vell de València\, 15\, Playa de Gandia\, Valencia\, 46730\, Spain
CATEGORIES:DJ`s,Musica
ATTACH;FMTTYPE=image/webp:https://mi-gandia24.es/wp-content/uploads/2026/04/JC-Diamante-Falkata.webp
END:VEVENT
END:VCALENDAR