BEGIN:VCALENDAR
VERSION:2.0
PRODID:-//Mi-Gandia24 - ECPv6.15.20//NONSGML v1.0//EN
CALSCALE:GREGORIAN
METHOD:PUBLISH
X-WR-CALNAME:Mi-Gandia24
X-ORIGINAL-URL:https://mi-gandia24.es
X-WR-CALDESC:Eventos para Mi-Gandia24
REFRESH-INTERVAL;VALUE=DURATION:PT1H
X-Robots-Tag:noindex
X-PUBLISHED-TTL:PT1H
BEGIN:VTIMEZONE
TZID:Europe/Madrid
BEGIN:DAYLIGHT
TZOFFSETFROM:+0100
TZOFFSETTO:+0200
TZNAME:CEST
DTSTART:20250330T010000
END:DAYLIGHT
BEGIN:STANDARD
TZOFFSETFROM:+0200
TZOFFSETTO:+0100
TZNAME:CET
DTSTART:20251026T010000
END:STANDARD
BEGIN:DAYLIGHT
TZOFFSETFROM:+0100
TZOFFSETTO:+0200
TZNAME:CEST
DTSTART:20260329T010000
END:DAYLIGHT
BEGIN:STANDARD
TZOFFSETFROM:+0200
TZOFFSETTO:+0100
TZNAME:CET
DTSTART:20261025T010000
END:STANDARD
BEGIN:DAYLIGHT
TZOFFSETFROM:+0100
TZOFFSETTO:+0200
TZNAME:CEST
DTSTART:20270328T010000
END:DAYLIGHT
BEGIN:STANDARD
TZOFFSETFROM:+0200
TZOFFSETTO:+0100
TZNAME:CET
DTSTART:20271031T010000
END:STANDARD
END:VTIMEZONE
BEGIN:VEVENT
DTSTART;TZID=Europe/Madrid:20260501T233000
DTEND;TZID=Europe/Madrid:20260502T010000
DTSTAMP:20260423T165105
CREATED:20260423T004931Z
LAST-MODIFIED:20260423T004931Z
UID:11845-1777678200-1777683600@mi-gandia24.es
SUMMARY:The Chuck Norris Experiment en Pub Dublin
DESCRIPTION:The Chuck Norris Experiment en Pub Dublin\nLa legendaria banda sueca Chuck Norris Experiment aterriza en el Pub Dublin para ofrecer una descarga explosiva de rock de alta energía. Directamente desde Gotemburgo\, el grupo llega como una apisonadora de hard rock y punk\, prometiendo una noche cargada de pura adrenalina. Esta actuación forma parte de su gira internacional\, brindando una oportunidad única de vivir su sonido crudo y directo en pleno corazón de la playa. Los amantes del garage rock más potente tienen una cita ineludible con este torbellino musical que define perfectamente el espíritu de las «Noches Golfas«. Por tan solo 5€\, esta es la propuesta más electrizante para inaugurar con fuerza el mes de mayo en Gandia. \n\n\nDetalles del Evento\n\nEvento: NOCHES GOLFAS » CHUCK NORRIS EXPERIMENT » FROM SWEDEN\nFecha: viernes\, 1 mayo\nHora: 23:30\nPrecio: 5€\nCategoría del Evento: Concierto\nRecinto: Pub Dublin Gandia\nDirección: Rioja 38\, Playa de Gandia\, Valencia 46730 España\nOrganizador: Pub Dublin Gandia
URL:https://mi-gandia24.es/evento/the-chuck-norris-experiment-en-pub-dublin/
LOCATION:PUB DUBLIN GANDIA\, Rioja\, 38\, Playa de Gandia\, PLAYA DE GANDIA\, VALENCIA\, Spain
CATEGORIES:Concierto,Musica
ATTACH;FMTTYPE=image/webp:https://mi-gandia24.es/wp-content/uploads/2026/04/The-Chuck-Norris-Experiment.webp
END:VEVENT
END:VCALENDAR